BEGIN:VCALENDAR
VERSION:2.0
PRODID:-//Lehmann School - ECPv6.15.18//NONSGML v1.0//EN
CALSCALE:GREGORIAN
METHOD:PUBLISH
X-ORIGINAL-URL:https://lehmannschool.org
X-WR-CALDESC:Events for Lehmann School
REFRESH-INTERVAL;VALUE=DURATION:PT1H
X-Robots-Tag:noindex
X-PUBLISHED-TTL:PT1H
BEGIN:VTIMEZONE
TZID:UTC
BEGIN:STANDARD
TZOFFSETFROM:+0000
TZOFFSETTO:+0000
TZNAME:UTC
DTSTART:20200101T000000
END:STANDARD
END:VTIMEZONE
BEGIN:VEVENT
DTSTART;VALUE=DATE:20220620
DTEND;VALUE=DATE:20220701
DTSTAMP:20260423T092404
CREATED:20210720T171025Z
LAST-MODIFIED:20210720T171025Z
UID:2318-1655683200-1656633599@lehmannschool.org
SUMMARY:School Closed
DESCRIPTION:
URL:https://lehmannschool.org/event/school-closed-2/
END:VEVENT
BEGIN:VEVENT
DTSTART;VALUE=DATE:20220617
DTEND;VALUE=DATE:20220618
DTSTAMP:20260423T092404
CREATED:20210720T171001Z
LAST-MODIFIED:20210720T171001Z
UID:2317-1655424000-1655510399@lehmannschool.org
SUMMARY:Last Day of School
DESCRIPTION:
URL:https://lehmannschool.org/event/last-day-of-school/
END:VEVENT
BEGIN:VEVENT
DTSTART;VALUE=DATE:20220530
DTEND;VALUE=DATE:20220531
DTSTAMP:20260423T092404
CREATED:20210720T170932Z
LAST-MODIFIED:20210720T171221Z
UID:2316-1653868800-1653955199@lehmannschool.org
SUMMARY:Memorial Day Holiday - School Closed
DESCRIPTION:
URL:https://lehmannschool.org/event/memorial-day-holiday-school-closed/
END:VEVENT
BEGIN:VEVENT
DTSTART;VALUE=DATE:20220415
DTEND;VALUE=DATE:20220423
DTSTAMP:20260423T092404
CREATED:20210720T170910Z
LAST-MODIFIED:20210720T170910Z
UID:2315-1649980800-1650671999@lehmannschool.org
SUMMARY:Spring Recess- School Closed
DESCRIPTION:
URL:https://lehmannschool.org/event/spring-recess-school-closed/
END:VEVENT
BEGIN:VEVENT
DTSTART;VALUE=DATE:20220221
DTEND;VALUE=DATE:20220222
DTSTAMP:20260423T092404
CREATED:20210720T170804Z
LAST-MODIFIED:20210720T170804Z
UID:2314-1645401600-1645487999@lehmannschool.org
SUMMARY:President's Day Holiday - School Closed
DESCRIPTION:
URL:https://lehmannschool.org/event/presidents-day-holiday-school-closed/
END:VEVENT
BEGIN:VEVENT
DTSTART;VALUE=DATE:20220117
DTEND;VALUE=DATE:20220118
DTSTAMP:20260423T092404
CREATED:20210720T170653Z
LAST-MODIFIED:20210720T170653Z
UID:2313-1642377600-1642463999@lehmannschool.org
SUMMARY:Martin Luther King Jr. Holiday - School Closed
DESCRIPTION:
URL:https://lehmannschool.org/event/martin-luther-king-jr-holiday-school-closed/
END:VEVENT
BEGIN:VEVENT
DTSTART;TZID=UTC:20220101T000000
DTEND;TZID=UTC:20220101T235959
DTSTAMP:20260423T092404
CREATED:20210720T170420Z
LAST-MODIFIED:20210720T170423Z
UID:2312-1640995200-1641081599@lehmannschool.org
SUMMARY:New Year's Day Holiday
DESCRIPTION:
URL:https://lehmannschool.org/event/new-years-day-holiday/
END:VEVENT
BEGIN:VEVENT
DTSTART;VALUE=DATE:20211224
DTEND;VALUE=DATE:20220101
DTSTAMP:20260423T092404
CREATED:20210719T210631Z
LAST-MODIFIED:20210720T170030Z
UID:2311-1640304000-1640995199@lehmannschool.org
SUMMARY:Winter Recess - School Closed
DESCRIPTION:
URL:https://lehmannschool.org/event/winter-recess-school-closed/
END:VEVENT
BEGIN:VEVENT
DTSTART;VALUE=DATE:20211223
DTEND;VALUE=DATE:20211224
DTSTAMP:20260423T092404
CREATED:20210719T210602Z
LAST-MODIFIED:20210719T210602Z
UID:2310-1640217600-1640303999@lehmannschool.org
SUMMARY:Early Dismissal - Staff and Students
DESCRIPTION:
URL:https://lehmannschool.org/event/early-dismissal-staff-and-students-2/
END:VEVENT
BEGIN:VEVENT
DTSTART;VALUE=DATE:20211125
DTEND;VALUE=DATE:20211127
DTSTAMP:20260423T092404
CREATED:20210719T210518Z
LAST-MODIFIED:20210719T210518Z
UID:2309-1637798400-1637971199@lehmannschool.org
SUMMARY:Thanksgiving Holiday - School Closed
DESCRIPTION:
URL:https://lehmannschool.org/event/thanksgiving-holiday-school-closed/
END:VEVENT
BEGIN:VEVENT
DTSTART;VALUE=DATE:20211124
DTEND;VALUE=DATE:20211125
DTSTAMP:20260423T092404
CREATED:20210719T210458Z
LAST-MODIFIED:20210719T210458Z
UID:2308-1637712000-1637798399@lehmannschool.org
SUMMARY:Early Dismissal - Staff and Students
DESCRIPTION:
URL:https://lehmannschool.org/event/early-dismissal-staff-and-students/
END:VEVENT
BEGIN:VEVENT
DTSTART;VALUE=DATE:20211111
DTEND;VALUE=DATE:20211112
DTSTAMP:20260423T092404
CREATED:20210719T210407Z
LAST-MODIFIED:20210907T180405Z
UID:2307-1636588800-1636675199@lehmannschool.org
SUMMARY:Veterans Day Holiday - School Closed
DESCRIPTION:
URL:https://lehmannschool.org/event/veterans-day-holiday-school-closed/
END:VEVENT
BEGIN:VEVENT
DTSTART;VALUE=DATE:20211011
DTEND;VALUE=DATE:20211012
DTSTAMP:20260423T092404
CREATED:20210719T210341Z
LAST-MODIFIED:20210719T210341Z
UID:2306-1633910400-1633996799@lehmannschool.org
SUMMARY:Columbus Day Holiday - School Closed
DESCRIPTION:
URL:https://lehmannschool.org/event/columbus-day-holiday-school-closed/
END:VEVENT
BEGIN:VEVENT
DTSTART;VALUE=DATE:20210924
DTEND;VALUE=DATE:20210925
DTSTAMP:20260423T092404
CREATED:20210719T210309Z
LAST-MODIFIED:20210719T210309Z
UID:2305-1632441600-1632527999@lehmannschool.org
SUMMARY:Staff Development Day - School Closed
DESCRIPTION:
URL:https://lehmannschool.org/event/staff-development-day-school-closed/
END:VEVENT
BEGIN:VEVENT
DTSTART;VALUE=DATE:20210907
DTEND;VALUE=DATE:20210908
DTSTAMP:20260423T092404
CREATED:20210719T210225Z
LAST-MODIFIED:20210719T210225Z
UID:2304-1630972800-1631059199@lehmannschool.org
SUMMARY:First Day of School
DESCRIPTION:
URL:https://lehmannschool.org/event/first-day-of-school/
END:VEVENT
BEGIN:VEVENT
DTSTART;VALUE=DATE:20210906
DTEND;VALUE=DATE:20210907
DTSTAMP:20260423T092404
CREATED:20210719T210125Z
LAST-MODIFIED:20210719T210125Z
UID:2303-1630886400-1630972799@lehmannschool.org
SUMMARY:Labor Day Holiday - School Closed
DESCRIPTION:
URL:https://lehmannschool.org/event/labor-day-holiday-school-closed/
END:VEVENT
BEGIN:VEVENT
DTSTART;VALUE=DATE:20210902
DTEND;VALUE=DATE:20210904
DTSTAMP:20260423T092404
CREATED:20210719T210020Z
LAST-MODIFIED:20210719T210046Z
UID:2302-1630540800-1630713599@lehmannschool.org
SUMMARY:All Staff Report - Closed to Students
DESCRIPTION:
URL:https://lehmannschool.org/event/all-staff-report-closed-to-students/
END:VEVENT
BEGIN:VEVENT
DTSTART;VALUE=DATE:20210826
DTEND;VALUE=DATE:20210901
DTSTAMP:20260423T092404
CREATED:20210719T205927Z
LAST-MODIFIED:20210719T205927Z
UID:2301-1629936000-1630454399@lehmannschool.org
SUMMARY:School Closed
DESCRIPTION:
URL:https://lehmannschool.org/event/school-closed/
END:VEVENT
BEGIN:VEVENT
DTSTART;VALUE=DATE:20210825
DTEND;VALUE=DATE:20210826
DTSTAMP:20260423T092404
CREATED:20210719T205012Z
LAST-MODIFIED:20210719T205012Z
UID:2298-1629849600-1629935999@lehmannschool.org
SUMMARY:Last Day of ESY
DESCRIPTION:
URL:https://lehmannschool.org/event/last-day-of-esy/
END:VEVENT
BEGIN:VEVENT
DTSTART;VALUE=DATE:20210705
DTEND;VALUE=DATE:20210706
DTSTAMP:20260423T092404
CREATED:20210719T205743Z
LAST-MODIFIED:20210719T205743Z
UID:2300-1625443200-1625529599@lehmannschool.org
SUMMARY:4th of July Holiday - School Closed
DESCRIPTION:
URL:https://lehmannschool.org/event/4th-of-july-holiday-school-closed/
END:VEVENT
BEGIN:VEVENT
DTSTART;VALUE=DATE:20210701
DTEND;VALUE=DATE:20210702
DTSTAMP:20260423T092404
CREATED:20210719T205717Z
LAST-MODIFIED:20210719T205717Z
UID:2299-1625097600-1625183999@lehmannschool.org
SUMMARY:First Day of ESY - All Staff and Students
DESCRIPTION:
URL:https://lehmannschool.org/event/first-day-of-esy-all-staff-and-students/
END:VEVENT
END:VCALENDAR