BEGIN:VCALENDAR
VERSION:2.0
PRODID:-//Lehmann School - ECPv6.15.18//NONSGML v1.0//EN
CALSCALE:GREGORIAN
METHOD:PUBLISH
X-ORIGINAL-URL:https://lehmannschool.org
X-WR-CALDESC:Events for Lehmann School
REFRESH-INTERVAL;VALUE=DURATION:PT1H
X-Robots-Tag:noindex
X-PUBLISHED-TTL:PT1H
BEGIN:VTIMEZONE
TZID:UTC
BEGIN:STANDARD
TZOFFSETFROM:+0000
TZOFFSETTO:+0000
TZNAME:UTC
DTSTART:20200101T000000
END:STANDARD
END:VTIMEZONE
BEGIN:VEVENT
DTSTART;VALUE=DATE:20211011
DTEND;VALUE=DATE:20211012
DTSTAMP:20260425T111744
CREATED:20210719T210341Z
LAST-MODIFIED:20210719T210341Z
UID:2306-1633910400-1633996799@lehmannschool.org
SUMMARY:Columbus Day Holiday - School Closed
DESCRIPTION:
URL:https://lehmannschool.org/event/columbus-day-holiday-school-closed/
END:VEVENT
BEGIN:VEVENT
DTSTART;VALUE=DATE:20210924
DTEND;VALUE=DATE:20210925
DTSTAMP:20260425T111744
CREATED:20210719T210309Z
LAST-MODIFIED:20210719T210309Z
UID:2305-1632441600-1632527999@lehmannschool.org
SUMMARY:Staff Development Day - School Closed
DESCRIPTION:
URL:https://lehmannschool.org/event/staff-development-day-school-closed/
END:VEVENT
BEGIN:VEVENT
DTSTART;VALUE=DATE:20210907
DTEND;VALUE=DATE:20210908
DTSTAMP:20260425T111744
CREATED:20210719T210225Z
LAST-MODIFIED:20210719T210225Z
UID:2304-1630972800-1631059199@lehmannschool.org
SUMMARY:First Day of School
DESCRIPTION:
URL:https://lehmannschool.org/event/first-day-of-school/
END:VEVENT
BEGIN:VEVENT
DTSTART;VALUE=DATE:20210906
DTEND;VALUE=DATE:20210907
DTSTAMP:20260425T111744
CREATED:20210719T210125Z
LAST-MODIFIED:20210719T210125Z
UID:2303-1630886400-1630972799@lehmannschool.org
SUMMARY:Labor Day Holiday - School Closed
DESCRIPTION:
URL:https://lehmannschool.org/event/labor-day-holiday-school-closed/
END:VEVENT
BEGIN:VEVENT
DTSTART;VALUE=DATE:20210902
DTEND;VALUE=DATE:20210904
DTSTAMP:20260425T111744
CREATED:20210719T210020Z
LAST-MODIFIED:20210719T210046Z
UID:2302-1630540800-1630713599@lehmannschool.org
SUMMARY:All Staff Report - Closed to Students
DESCRIPTION:
URL:https://lehmannschool.org/event/all-staff-report-closed-to-students/
END:VEVENT
BEGIN:VEVENT
DTSTART;VALUE=DATE:20210826
DTEND;VALUE=DATE:20210901
DTSTAMP:20260425T111744
CREATED:20210719T205927Z
LAST-MODIFIED:20210719T205927Z
UID:2301-1629936000-1630454399@lehmannschool.org
SUMMARY:School Closed
DESCRIPTION:
URL:https://lehmannschool.org/event/school-closed/
END:VEVENT
BEGIN:VEVENT
DTSTART;VALUE=DATE:20210825
DTEND;VALUE=DATE:20210826
DTSTAMP:20260425T111744
CREATED:20210719T205012Z
LAST-MODIFIED:20210719T205012Z
UID:2298-1629849600-1629935999@lehmannschool.org
SUMMARY:Last Day of ESY
DESCRIPTION:
URL:https://lehmannschool.org/event/last-day-of-esy/
END:VEVENT
BEGIN:VEVENT
DTSTART;VALUE=DATE:20210705
DTEND;VALUE=DATE:20210706
DTSTAMP:20260425T111744
CREATED:20210719T205743Z
LAST-MODIFIED:20210719T205743Z
UID:2300-1625443200-1625529599@lehmannschool.org
SUMMARY:4th of July Holiday - School Closed
DESCRIPTION:
URL:https://lehmannschool.org/event/4th-of-july-holiday-school-closed/
END:VEVENT
BEGIN:VEVENT
DTSTART;VALUE=DATE:20210701
DTEND;VALUE=DATE:20210702
DTSTAMP:20260425T111744
CREATED:20210719T205717Z
LAST-MODIFIED:20210719T205717Z
UID:2299-1625097600-1625183999@lehmannschool.org
SUMMARY:First Day of ESY - All Staff and Students
DESCRIPTION:
URL:https://lehmannschool.org/event/first-day-of-esy-all-staff-and-students/
END:VEVENT
END:VCALENDAR